BEGIN:VCALENDAR
VERSION:2.0
PRODID:-//Seattle Parks Foundation - ECPv6.15.20//NONSGML v1.0//EN
CALSCALE:GREGORIAN
METHOD:PUBLISH
X-WR-CALNAME:Seattle Parks Foundation
X-ORIGINAL-URL:https://www.seattleparksfoundation.org
X-WR-CALDESC:Events for Seattle Parks Foundation
REFRESH-INTERVAL;VALUE=DURATION:PT1H
X-Robots-Tag:noindex
X-PUBLISHED-TTL:PT1H
BEGIN:VTIMEZONE
TZID:America/Los_Angeles
BEGIN:DAYLIGHT
TZOFFSETFROM:-0800
TZOFFSETTO:-0700
TZNAME:PDT
DTSTART:20250309T100000
END:DAYLIGHT
BEGIN:STANDARD
TZOFFSETFROM:-0700
TZOFFSETTO:-0800
TZNAME:PST
DTSTART:20251102T090000
END:STANDARD
BEGIN:DAYLIGHT
TZOFFSETFROM:-0800
TZOFFSETTO:-0700
TZNAME:PDT
DTSTART:20260308T100000
END:DAYLIGHT
BEGIN:STANDARD
TZOFFSETFROM:-0700
TZOFFSETTO:-0800
TZNAME:PST
DTSTART:20261101T090000
END:STANDARD
BEGIN:DAYLIGHT
TZOFFSETFROM:-0800
TZOFFSETTO:-0700
TZNAME:PDT
DTSTART:20270314T100000
END:DAYLIGHT
BEGIN:STANDARD
TZOFFSETFROM:-0700
TZOFFSETTO:-0800
TZNAME:PST
DTSTART:20271107T090000
END:STANDARD
END:VTIMEZONE
BEGIN:VEVENT
DTSTART;TZID=America/Los_Angeles:20261114T090000
DTEND;TZID=America/Los_Angeles:20261114T120000
DTSTAMP:20260419T133404
CREATED:20260304T201101Z
LAST-MODIFIED:20260304T204216Z
UID:236909-1794646800-1794657600@www.seattleparksfoundation.org
SUMMARY:Golden Gardens Park work parties
DESCRIPTION:Join us for a restoration work party at Golden Gardens Park. \nDo you want to restore the forest at Golden Gardens Park? Come out and help us the second Saturday of every month. We remove invasive weeds and plant native species that return the forest to a more natural ecosystem. We provide tools and training so we only need your enthusiasm to help restore this beautiful park. \nRegister to meet.
URL:https://www.seattleparksfoundation.org/event/golden-gardens-park-work-parties-19/
LOCATION:Golden Gardens Park\, 8498 Seaview Pl NW\, Seattle\, WA\, 98117
ATTACH;FMTTYPE=image/jpeg:https://www.seattleparksfoundation.org/wp-content/uploads/2026/03/home-new-2-catherine-anstett-trolls-knoll-gloves.jpg
END:VEVENT
BEGIN:VEVENT
DTSTART;TZID=America/Los_Angeles:20261114T100000
DTEND;TZID=America/Los_Angeles:20261114T120000
DTSTAMP:20260419T133404
CREATED:20260114T193823Z
LAST-MODIFIED:20260114T193823Z
UID:213478-1794650400-1794657600@www.seattleparksfoundation.org
SUMMARY:Volunteer Park 2nd Saturday Work Party
DESCRIPTION:Join your friends and neighbors as we weed and clean the garden beds in Volunteer Park to keep it beautiful for everyone. This is a great event for kids and families.  \nMeet Volunteer Park Trust members at the Black Sun Sculpture across from Seattle Asian Art Museum at 10:00 AM on Saturday. If you arrive late\, look for our green signboard telling you where in the park we will be working. \nWe will provide the gloves and tools. \nPlease note\, no RSVP is necessary\, but helpful for a headcount of volunteers to prepare for. Anyone is welcome to stop by and help. Thanks—we’ll see you in the park!  \nRegister \nLearn more about Volunteer Park Trust here.
URL:https://www.seattleparksfoundation.org/event/volunteer-park-2nd-saturday-work-party-10/
LOCATION:Volunteer Park\, 1247 15th Ave E\, Seattle\, WA\, 98112\, United States
ATTACH;FMTTYPE=image/png:https://www.seattleparksfoundation.org/wp-content/uploads/2026/01/volunteer-park-trust-work-party.png
END:VEVENT
BEGIN:VEVENT
DTSTART;TZID=America/Los_Angeles:20261114T100000
DTEND;TZID=America/Los_Angeles:20261114T130000
DTSTAMP:20260419T133404
CREATED:20260204T190512Z
LAST-MODIFIED:20260204T190854Z
UID:217965-1794650400-1794661200@www.seattleparksfoundation.org
SUMMARY:Orchard Street Ravine Planting Party
DESCRIPTION:Join us for a restoration work party at Orchard Street Ravine.  \nJoin other enthusiastic volunteers for a fun morning restoring our native forest by planting and mulching native plants.  \nRegister
URL:https://www.seattleparksfoundation.org/event/orchard-street-ravine-planting-party-3/
ATTACH;FMTTYPE=image/jpeg:https://www.seattleparksfoundation.org/wp-content/uploads/2023/03/home-NEW-2-Catherine-Anstett-Trolls-Knoll-gloves.jpg
END:VEVENT
BEGIN:VEVENT
DTSTART;TZID=America/Los_Angeles:20261121T100000
DTEND;TZID=America/Los_Angeles:20261121T120000
DTSTAMP:20260419T133404
CREATED:20260108T010724Z
LAST-MODIFIED:20260108T194211Z
UID:212092-1795255200-1795262400@www.seattleparksfoundation.org
SUMMARY:East Duwamish Work Party
DESCRIPTION:Join a restoration work party at East Duwamish GS: S Chicago St. \nHelp take care of the forest along this neighborhood trail! Depending on the time of the year\, we’ll be pulling and removing ivy\, cutting back and digging out blackberry or planting new plants; and always having a good time! \nLearn more + register here
URL:https://www.seattleparksfoundation.org/event/east-duwamish-work-party-35/
ATTACH;FMTTYPE=image/jpeg:https://www.seattleparksfoundation.org/wp-content/uploads/2023/03/home-NEW-2-Catherine-Anstett-Trolls-Knoll-gloves.jpg
END:VEVENT
BEGIN:VEVENT
DTSTART;TZID=America/Los_Angeles:20261121T100000
DTEND;TZID=America/Los_Angeles:20261121T140000
DTSTAMP:20260419T133404
CREATED:20260123T162822Z
LAST-MODIFIED:20260123T164642Z
UID:214979-1795255200-1795269600@www.seattleparksfoundation.org
SUMMARY:3rd Saturday forest restoration at Jackson Park Trail!
DESCRIPTION:Join us for a restoration work party at Jackson Park Golf Course. \nEnjoy the “natural areas” along the Jackson Park golf course perimeter trail. We’ll walk to a work area and continue to make progress removing invasive ivy and blackberries\, planting native plants\, weeding\, or mulching\, as the season demands! \nRegister
URL:https://www.seattleparksfoundation.org/event/3rd-saturday-forest-restoration-at-jackson-park-trail-32/
ATTACH;FMTTYPE=image/jpeg:https://www.seattleparksfoundation.org/wp-content/uploads/2023/03/home-NEW-2-Catherine-Anstett-Trolls-Knoll-gloves.jpg
END:VEVENT
END:VCALENDAR