BEGIN:VCALENDAR
VERSION:2.0
PRODID:-//Seattle Parks Foundation - ECPv6.15.20//NONSGML v1.0//EN
CALSCALE:GREGORIAN
METHOD:PUBLISH
X-ORIGINAL-URL:https://www.seattleparksfoundation.org
X-WR-CALDESC:Events for Seattle Parks Foundation
REFRESH-INTERVAL;VALUE=DURATION:PT1H
X-Robots-Tag:noindex
X-PUBLISHED-TTL:PT1H
BEGIN:VTIMEZONE
TZID:America/Los_Angeles
BEGIN:DAYLIGHT
TZOFFSETFROM:-0800
TZOFFSETTO:-0700
TZNAME:PDT
DTSTART:20250309T100000
END:DAYLIGHT
BEGIN:STANDARD
TZOFFSETFROM:-0700
TZOFFSETTO:-0800
TZNAME:PST
DTSTART:20251102T090000
END:STANDARD
BEGIN:DAYLIGHT
TZOFFSETFROM:-0800
TZOFFSETTO:-0700
TZNAME:PDT
DTSTART:20260308T100000
END:DAYLIGHT
BEGIN:STANDARD
TZOFFSETFROM:-0700
TZOFFSETTO:-0800
TZNAME:PST
DTSTART:20261101T090000
END:STANDARD
BEGIN:DAYLIGHT
TZOFFSETFROM:-0800
TZOFFSETTO:-0700
TZNAME:PDT
DTSTART:20270314T100000
END:DAYLIGHT
BEGIN:STANDARD
TZOFFSETFROM:-0700
TZOFFSETTO:-0800
TZNAME:PST
DTSTART:20271107T090000
END:STANDARD
END:VTIMEZONE
BEGIN:VEVENT
DTSTART;TZID=America/Los_Angeles:20261004T120000
DTEND;TZID=America/Los_Angeles:20261004T160000
DTSTAMP:20260419T113314
CREATED:20260318T181711Z
LAST-MODIFIED:20260318T185201Z
UID:252658-1791115200-1791129600@www.seattleparksfoundation.org
SUMMARY:Mapes Creek Land and Culture Tending
DESCRIPTION:Join us for a restoration work party at Kubota Garden Natural Area. \nA land and culture tending practice. An ongoing series to learn the process and be in relationship. Guided by indigenous and Social Forestry principals. In collaboration with Green Seattle Partnership 💚🌲 \nTrillium offers this justice-oriented container as an opportunity to build connections\, learn\, practice\, heal\, create\, and weave resilient communities anchored in land and water. \nRegister
URL:https://www.seattleparksfoundation.org/event/mapes-creek-land-and-culture-tending-6/
ATTACH;FMTTYPE=image/jpeg:https://www.seattleparksfoundation.org/wp-content/uploads/2026/03/home-new-2-catherine-anstett-trolls-knoll-gloves.jpg
END:VEVENT
BEGIN:VEVENT
DTSTART;TZID=America/Los_Angeles:20261010T090000
DTEND;TZID=America/Los_Angeles:20261010T120000
DTSTAMP:20260419T113314
CREATED:20260304T201101Z
LAST-MODIFIED:20260304T204151Z
UID:236908-1791622800-1791633600@www.seattleparksfoundation.org
SUMMARY:Golden Gardens Park work party
DESCRIPTION:Join us for a restoration work party at Golden Gardens Park. \nDo you want to restore the forest at Golden Gardens Park? Come out and help us the second Saturday of every month. We remove invasive weeds and plant native species that return the forest to a more natural ecosystem. We provide tools and training so we only need your enthusiasm to help restore this beautiful park. \nRegister to meet.
URL:https://www.seattleparksfoundation.org/event/golden-gardens-park-work-parties-18/
LOCATION:Golden Gardens Park\, 8498 Seaview Pl NW\, Seattle\, WA\, 98117
ATTACH;FMTTYPE=image/jpeg:https://www.seattleparksfoundation.org/wp-content/uploads/2026/03/home-new-2-catherine-anstett-trolls-knoll-gloves.jpg
END:VEVENT
BEGIN:VEVENT
DTSTART;TZID=America/Los_Angeles:20261010T100000
DTEND;TZID=America/Los_Angeles:20261010T120000
DTSTAMP:20260419T113314
CREATED:20260114T193740Z
LAST-MODIFIED:20260114T193740Z
UID:213474-1791626400-1791633600@www.seattleparksfoundation.org
SUMMARY:Volunteer Park 2nd Saturday Work Party
DESCRIPTION:Join your friends and neighbors as we weed and clean the garden beds in Volunteer Park to keep it beautiful for everyone. This is a great event for kids and families.  \nMeet Volunteer Park Trust members at the Black Sun Sculpture across from Seattle Asian Art Museum at 10:00 AM on Saturday. If you arrive late\, look for our green signboard telling you where in the park we will be working. \nWe will provide the gloves and tools. \nPlease note\, no RSVP is necessary\, but helpful for a headcount of volunteers to prepare for. Anyone is welcome to stop by and help. Thanks—we’ll see you in the park!  \nRegister \nLearn more about Volunteer Park Trust here.
URL:https://www.seattleparksfoundation.org/event/volunteer-park-2nd-saturday-work-party-9/
LOCATION:Volunteer Park\, 1247 15th Ave E\, Seattle\, WA\, 98112\, United States
ATTACH;FMTTYPE=image/png:https://www.seattleparksfoundation.org/wp-content/uploads/2026/01/volunteer-park-trust-work-party.png
END:VEVENT
BEGIN:VEVENT
DTSTART;TZID=America/Los_Angeles:20261010T100000
DTEND;TZID=America/Los_Angeles:20261010T130000
DTSTAMP:20260419T113314
CREATED:20260204T190513Z
LAST-MODIFIED:20260204T191130Z
UID:217966-1791626400-1791637200@www.seattleparksfoundation.org
SUMMARY:Orchard Street Ravine Work Party
DESCRIPTION:Join us for a restoration work party at Orchard Street Ravine.  \nJoin other enthusiastic volunteers for a fun morning restoring and preserving our native forest. \nRegister
URL:https://www.seattleparksfoundation.org/event/orchard-street-ravine-work-party-15/
ATTACH;FMTTYPE=image/jpeg:https://www.seattleparksfoundation.org/wp-content/uploads/2023/03/home-NEW-2-Catherine-Anstett-Trolls-Knoll-gloves.jpg
END:VEVENT
BEGIN:VEVENT
DTSTART;TZID=America/Los_Angeles:20261017T100000
DTEND;TZID=America/Los_Angeles:20261017T120000
DTSTAMP:20260419T113314
CREATED:20260108T010722Z
LAST-MODIFIED:20260108T194148Z
UID:212091-1792231200-1792238400@www.seattleparksfoundation.org
SUMMARY:East Duwamish Work Party
DESCRIPTION:Join a restoration work party at East Duwamish GS: S Chicago St. \nHelp take care of the forest along this neighborhood trail! Depending on the time of the year\, we’ll be pulling and removing ivy\, cutting back and digging out blackberry or planting new plants; and always having a good time! \nLearn more + register here
URL:https://www.seattleparksfoundation.org/event/east-duwamish-work-party-34/
ATTACH;FMTTYPE=image/jpeg:https://www.seattleparksfoundation.org/wp-content/uploads/2023/03/home-NEW-2-Catherine-Anstett-Trolls-Knoll-gloves.jpg
END:VEVENT
BEGIN:VEVENT
DTSTART;TZID=America/Los_Angeles:20261017T100000
DTEND;TZID=America/Los_Angeles:20261017T140000
DTSTAMP:20260419T113314
CREATED:20260123T162822Z
LAST-MODIFIED:20260123T164616Z
UID:214978-1792231200-1792245600@www.seattleparksfoundation.org
SUMMARY:3rd Saturday forest restoration at Jackson Park Trail!
DESCRIPTION:Join us for a restoration work party at Jackson Park Golf Course. \nEnjoy the “natural areas” along the Jackson Park golf course perimeter trail. We’ll walk to a work area and continue to make progress removing invasive ivy and blackberries\, planting native plants\, weeding\, or mulching\, as the season demands! \nRegister
URL:https://www.seattleparksfoundation.org/event/3rd-saturday-forest-restoration-at-jackson-park-trail-31/
ATTACH;FMTTYPE=image/jpeg:https://www.seattleparksfoundation.org/wp-content/uploads/2023/03/home-NEW-2-Catherine-Anstett-Trolls-Knoll-gloves.jpg
END:VEVENT
BEGIN:VEVENT
DTSTART;TZID=America/Los_Angeles:20261021T093000
DTEND;TZID=America/Los_Angeles:20261021T123000
DTSTAMP:20260419T113314
CREATED:20260204T190633Z
LAST-MODIFIED:20260204T193408Z
UID:217997-1792575000-1792585800@www.seattleparksfoundation.org
SUMMARY:Wildflower Meadow Creation at Discovery Park
DESCRIPTION:Join us for a restoration work party at Discovery Park \nThe south meadow is dominated by mainly 4 exotic grasses. This near monoculture is not great for wildlife habitat. We will be creating a small area devoid of grasses for planting 30 different species of native wildflowers to support our many pollinators and birds. We are using the recommended methodology to create new wildflower meadows according to the Xerces Society and Northwest Meadowscapes. The process will include site preparations\, hauling wheelbarrows of woodchips and planting. \nRegister
URL:https://www.seattleparksfoundation.org/event/wildflower-meadow-creation-2/
ATTACH;FMTTYPE=image/jpeg:https://www.seattleparksfoundation.org/wp-content/uploads/2026/02/wildflower-meadow-creation_9597-pnli3n.jpg
END:VEVENT
END:VCALENDAR