BEGIN:VCALENDAR
VERSION:2.0
PRODID:-//Seattle Parks Foundation - ECPv6.15.20//NONSGML v1.0//EN
CALSCALE:GREGORIAN
METHOD:PUBLISH
X-WR-CALNAME:Seattle Parks Foundation
X-ORIGINAL-URL:https://www.seattleparksfoundation.org
X-WR-CALDESC:Events for Seattle Parks Foundation
REFRESH-INTERVAL;VALUE=DURATION:PT1H
X-Robots-Tag:noindex
X-PUBLISHED-TTL:PT1H
BEGIN:VTIMEZONE
TZID:America/Los_Angeles
BEGIN:DAYLIGHT
TZOFFSETFROM:-0800
TZOFFSETTO:-0700
TZNAME:PDT
DTSTART:20250309T100000
END:DAYLIGHT
BEGIN:STANDARD
TZOFFSETFROM:-0700
TZOFFSETTO:-0800
TZNAME:PST
DTSTART:20251102T090000
END:STANDARD
BEGIN:DAYLIGHT
TZOFFSETFROM:-0800
TZOFFSETTO:-0700
TZNAME:PDT
DTSTART:20260308T100000
END:DAYLIGHT
BEGIN:STANDARD
TZOFFSETFROM:-0700
TZOFFSETTO:-0800
TZNAME:PST
DTSTART:20261101T090000
END:STANDARD
BEGIN:DAYLIGHT
TZOFFSETFROM:-0800
TZOFFSETTO:-0700
TZNAME:PDT
DTSTART:20270314T100000
END:DAYLIGHT
BEGIN:STANDARD
TZOFFSETFROM:-0700
TZOFFSETTO:-0800
TZNAME:PST
DTSTART:20271107T090000
END:STANDARD
END:VTIMEZONE
BEGIN:VEVENT
DTSTART;TZID=America/Los_Angeles:20260912T090000
DTEND;TZID=America/Los_Angeles:20260912T120000
DTSTAMP:20260419T094504
CREATED:20260304T201101Z
LAST-MODIFIED:20260304T204121Z
UID:236911-1789203600-1789214400@www.seattleparksfoundation.org
SUMMARY:Golden Gardens Park work party
DESCRIPTION:Join us for a restoration work party at Golden Gardens Park. \nDo you want to restore the forest at Golden Gardens Park? Come out and help us the second Saturday of every month. We remove invasive weeds and plant native species that return the forest to a more natural ecosystem. We provide tools and training so we only need your enthusiasm to help restore this beautiful park. \nRegister to meet.
URL:https://www.seattleparksfoundation.org/event/golden-gardens-park-work-parties-21/
LOCATION:Golden Gardens Park\, 8498 Seaview Pl NW\, Seattle\, WA\, 98117
ATTACH;FMTTYPE=image/jpeg:https://www.seattleparksfoundation.org/wp-content/uploads/2026/03/home-new-2-catherine-anstett-trolls-knoll-gloves.jpg
END:VEVENT
BEGIN:VEVENT
DTSTART;TZID=America/Los_Angeles:20260912T090000
DTEND;TZID=America/Los_Angeles:20260912T150000
DTSTAMP:20260419T094504
CREATED:20260323T211448Z
LAST-MODIFIED:20260326T191950Z
UID:255417-1789203600-1789225200@www.seattleparksfoundation.org
SUMMARY:Burke-Gilman 55th Anniversary of the Hike-In
DESCRIPTION:Join us for the Burke-Gilman 55th Anniversary Celebration! \nJoin us to bring attention to the original 50 year old segments of the Burke-Gilman in Seattle. The 1971 “Hike-In” for the Burke-Gilman Trail was a rally on September 12\, 1971\, organized by Merrill Hille and the Burke-Gilman Trail Park Committee to gather public support for converting the abandoned Burlington Northern railroad tracks into a public bike and pedestrian path. Hundreds of people marched along the tracks\, converging at Matthews Beach Park\, where elected officials spoke to an estimated 2\,000 attendees\, marking a turning point in the creation of the trail. \nRegister \nLearn more about our partners Fix the Burke-Gilman here.
URL:https://www.seattleparksfoundation.org/event/burke-gilman-55th-anniversary-celebration/
LOCATION:Matthews Beach Park\, 5100 NE 93rd St\, Seattle\, WA\, United States
ATTACH;FMTTYPE=image/jpeg:https://www.seattleparksfoundation.org/wp-content/uploads/2023/03/Fix-the-Burke-Gilman-lead.jpg
END:VEVENT
BEGIN:VEVENT
DTSTART;TZID=America/Los_Angeles:20260912T100000
DTEND;TZID=America/Los_Angeles:20260912T120000
DTSTAMP:20260419T094504
CREATED:20260114T193652Z
LAST-MODIFIED:20260114T193652Z
UID:213470-1789207200-1789214400@www.seattleparksfoundation.org
SUMMARY:Volunteer Park 2nd Saturday Work Party
DESCRIPTION:Join your friends and neighbors as we weed and clean the garden beds in Volunteer Park to keep it beautiful for everyone. This is a great event for kids and families.  \nMeet Volunteer Park Trust members at the Black Sun Sculpture across from Seattle Asian Art Museum at 10:00 AM on Saturday. If you arrive late\, look for our green signboard telling you where in the park we will be working. \nWe will provide the gloves and tools. \nPlease note\, no RSVP is necessary\, but helpful for a headcount of volunteers to prepare for. Anyone is welcome to stop by and help. Thanks—we’ll see you in the park!  \nRegister \nLearn more about Volunteer Park Trust here.
URL:https://www.seattleparksfoundation.org/event/volunteer-park-2nd-saturday-work-party-8/
LOCATION:Volunteer Park\, 1247 15th Ave E\, Seattle\, WA\, 98112\, United States
ATTACH;FMTTYPE=image/png:https://www.seattleparksfoundation.org/wp-content/uploads/2026/01/volunteer-park-trust-work-party.png
END:VEVENT
BEGIN:VEVENT
DTSTART;TZID=America/Los_Angeles:20260912T100000
DTEND;TZID=America/Los_Angeles:20260912T130000
DTSTAMP:20260419T094504
CREATED:20260204T190513Z
LAST-MODIFIED:20260204T191056Z
UID:217967-1789207200-1789218000@www.seattleparksfoundation.org
SUMMARY:Orchard Street Ravine Work Party
DESCRIPTION:Join us for a restoration work party at Orchard Street Ravine.  \nJoin other enthusiastic volunteers for a fun morning restoring and preserving our native forest. \nRegister
URL:https://www.seattleparksfoundation.org/event/orchard-street-ravine-work-party-16/
ATTACH;FMTTYPE=image/jpeg:https://www.seattleparksfoundation.org/wp-content/uploads/2023/03/home-NEW-2-Catherine-Anstett-Trolls-Knoll-gloves.jpg
END:VEVENT
BEGIN:VEVENT
DTSTART;TZID=America/Los_Angeles:20260912T100000
DTEND;TZID=America/Los_Angeles:20260912T130000
DTSTAMP:20260419T094504
CREATED:20260416T173701Z
LAST-MODIFIED:20260416T180025Z
UID:289902-1789207200-1789218000@www.seattleparksfoundation.org
SUMMARY:HAVE FUN\, GET FIT at Licton Springs Park
DESCRIPTION:Join us for a restoration work party at Licton Springs Park. \nRemoving invasive plants and spreading woodchips. In the Fall we plant. \nRegister
URL:https://www.seattleparksfoundation.org/event/have-fun-get-fit-24/
ATTACH;FMTTYPE=image/jpeg:https://www.seattleparksfoundation.org/wp-content/uploads/2026/03/home-new-2-catherine-anstett-trolls-knoll-gloves.jpg
END:VEVENT
BEGIN:VEVENT
DTSTART;TZID=America/Los_Angeles:20260919T100000
DTEND;TZID=America/Los_Angeles:20260919T120000
DTSTAMP:20260419T094504
CREATED:20260108T010722Z
LAST-MODIFIED:20260108T194124Z
UID:212090-1789812000-1789819200@www.seattleparksfoundation.org
SUMMARY:East Duwamish Work Party
DESCRIPTION:Join a restoration work party at East Duwamish GS: S Chicago St. \nHelp take care of the forest along this neighborhood trail! Depending on the time of the year\, we’ll be pulling and removing ivy\, cutting back and digging out blackberry or planting new plants; and always having a good time! \nLearn more + register here
URL:https://www.seattleparksfoundation.org/event/east-duwamish-work-party-33/
ATTACH;FMTTYPE=image/jpeg:https://www.seattleparksfoundation.org/wp-content/uploads/2023/03/home-NEW-2-Catherine-Anstett-Trolls-Knoll-gloves.jpg
END:VEVENT
BEGIN:VEVENT
DTSTART;TZID=America/Los_Angeles:20260919T100000
DTEND;TZID=America/Los_Angeles:20260919T140000
DTSTAMP:20260419T094504
CREATED:20260123T162807Z
LAST-MODIFIED:20260123T164551Z
UID:214977-1789812000-1789826400@www.seattleparksfoundation.org
SUMMARY:3rd Saturday forest restoration at Jackson Park Trail!
DESCRIPTION:Join us for a restoration work party at Jackson Park Golf Course. \nEnjoy the “natural areas” along the Jackson Park golf course perimeter trail. We’ll walk to a work area and continue to make progress removing invasive ivy and blackberries\, planting native plants\, weeding\, or mulching\, as the season demands! \nRegister
URL:https://www.seattleparksfoundation.org/event/3rd-saturday-forest-restoration-at-jackson-park-trail-30/
ATTACH;FMTTYPE=image/jpeg:https://www.seattleparksfoundation.org/wp-content/uploads/2023/03/home-NEW-2-Catherine-Anstett-Trolls-Knoll-gloves.jpg
END:VEVENT
BEGIN:VEVENT
DTSTART;TZID=America/Los_Angeles:20260927T120000
DTEND;TZID=America/Los_Angeles:20260927T160000
DTSTAMP:20260419T094504
CREATED:20260318T181711Z
LAST-MODIFIED:20260318T185138Z
UID:252657-1790510400-1790524800@www.seattleparksfoundation.org
SUMMARY:Mapes Creek Land and Culture Tending
DESCRIPTION:Join us for a restoration work party at Kubota Garden Natural Area. \nA land and culture tending practice. An ongoing series to learn the process and be in relationship. Guided by indigenous and Social Forestry principals. In collaboration with Green Seattle Partnership 💚🌲 \nTrillium offers this justice-oriented container as an opportunity to build connections\, learn\, practice\, heal\, create\, and weave resilient communities anchored in land and water. \nRegister
URL:https://www.seattleparksfoundation.org/event/mapes-creek-land-and-culture-tending-5/
ATTACH;FMTTYPE=image/jpeg:https://www.seattleparksfoundation.org/wp-content/uploads/2026/03/home-new-2-catherine-anstett-trolls-knoll-gloves.jpg
END:VEVENT
END:VCALENDAR