BEGIN:VCALENDAR
VERSION:2.0
PRODID:-//Seattle Parks Foundation - ECPv6.15.20//NONSGML v1.0//EN
CALSCALE:GREGORIAN
METHOD:PUBLISH
X-WR-CALNAME:Seattle Parks Foundation
X-ORIGINAL-URL:https://www.seattleparksfoundation.org
X-WR-CALDESC:Events for Seattle Parks Foundation
REFRESH-INTERVAL;VALUE=DURATION:PT1H
X-Robots-Tag:noindex
X-PUBLISHED-TTL:PT1H
BEGIN:VTIMEZONE
TZID:America/Los_Angeles
BEGIN:DAYLIGHT
TZOFFSETFROM:-0800
TZOFFSETTO:-0700
TZNAME:PDT
DTSTART:20250309T100000
END:DAYLIGHT
BEGIN:STANDARD
TZOFFSETFROM:-0700
TZOFFSETTO:-0800
TZNAME:PST
DTSTART:20251102T090000
END:STANDARD
BEGIN:DAYLIGHT
TZOFFSETFROM:-0800
TZOFFSETTO:-0700
TZNAME:PDT
DTSTART:20260308T100000
END:DAYLIGHT
BEGIN:STANDARD
TZOFFSETFROM:-0700
TZOFFSETTO:-0800
TZNAME:PST
DTSTART:20261101T090000
END:STANDARD
BEGIN:DAYLIGHT
TZOFFSETFROM:-0800
TZOFFSETTO:-0700
TZNAME:PDT
DTSTART:20270314T100000
END:DAYLIGHT
BEGIN:STANDARD
TZOFFSETFROM:-0700
TZOFFSETTO:-0800
TZNAME:PST
DTSTART:20271107T090000
END:STANDARD
END:VTIMEZONE
BEGIN:VEVENT
DTSTART;TZID=America/Los_Angeles:20260322T100000
DTEND;TZID=America/Los_Angeles:20260322T130000
DTSTAMP:20260419T232146
CREATED:20260318T181741Z
LAST-MODIFIED:20260318T190119Z
UID:252668-1774173600-1774184400@www.seattleparksfoundation.org
SUMMARY:Magnuson Reforestation
DESCRIPTION:Join us for a restoration work party at Warren G. Magnuson Park. \nHelp improve habitat and create replacement forest on a formerly denuded navy airfield. (Above photo taken in Navy era). The aim is to create healthy forest habitat and increase beneficial ecosystem services including provision of human enjoyment and health. It is also an opportunity to enjoy nature and learn a bit about native plants while doing satisfying work. \nWork is most likely to include distributing wood chip mulch and removing invasive plants like ivy\, Canada thistle\, and blackberry but may also include other tasks. \nBecause the work may be beyond capability of youth below high school age\, please get the leader’s permission before registering if younger.\nRegister
URL:https://www.seattleparksfoundation.org/event/magnuson-reforestation-29/
ATTACH;FMTTYPE=image/jpeg:https://www.seattleparksfoundation.org/wp-content/uploads/2026/03/43645-vygwtt.jpg
END:VEVENT
BEGIN:VEVENT
DTSTART;TZID=America/Los_Angeles:20260321T110000
DTEND;TZID=America/Los_Angeles:20260321T130000
DTSTAMP:20260419T232146
CREATED:20260219T235552Z
LAST-MODIFIED:20260219T235552Z
UID:222330-1774090800-1774098000@www.seattleparksfoundation.org
SUMMARY:Poetry Gathering in Chinook Beach Park
DESCRIPTION:Cascadia Poetics Lab invites you to a series of free outdoor poetry gatherings in Seattle’s Rainier Beach neighborhood! \nThese events bring poetry\, creativity\, and place-based learning into neighborhood parks – highlighting their cultural\, ecological\, and community significance. \n    Guided Poetry writing activities\n    Personal Universe Deck exercises\n    Postcard-making/collage table\n    Park history/native flora\n    Youth-led programming (Cascadia 2050!) \nEvent Dates & Locations\nMarch 21\, 2026 — 11AM–1PM — Chinook Beach Park\nApril 1\, 2026 — 6PM–8PM — yəhaw̓’ Indigenous Creatives Collective\nApril 18\, 2026 — 11AM–1PM — Kubota Garden\nApril 25\, 2026 — 11AM–1PM — Be’er Sheva Park for a blessing of Mapes Creek\nMay 2\, 2026 — 11AM–1PM — Dead Horse Canyon\nJune 6\, 2026 — 11AM–1PM — Pritchard Reserve \nLearn more here
URL:https://www.seattleparksfoundation.org/event/poetry-gathering-in-chinook-beach-park/
LOCATION:Chinook Beach Park\, 9560 Rainier Ave S\, Seattle\, WA\, 98118\, United States
ATTACH;FMTTYPE=image/jpeg:https://www.seattleparksfoundation.org/wp-content/uploads/2026/02/web_poetrypostcardactivations_poster_opt.jpg
END:VEVENT
BEGIN:VEVENT
DTSTART;TZID=America/Los_Angeles:20260321T100000
DTEND;TZID=America/Los_Angeles:20260321T140000
DTSTAMP:20260419T232146
CREATED:20260123T162752Z
LAST-MODIFIED:20260123T164259Z
UID:214971-1774087200-1774101600@www.seattleparksfoundation.org
SUMMARY:3rd Saturday forest restoration at Jackson Park Trail!
DESCRIPTION:Join us for a restoration work party at Jackson Park Golf Course. \nEnjoy the “natural areas” along the Jackson Park golf course perimeter trail. We’ll walk to a work area and continue to make progress removing invasive ivy and blackberries\, planting native plants\, weeding\, or mulching\, as the season demands! \nRegister
URL:https://www.seattleparksfoundation.org/event/3rd-saturday-forest-restoration-at-jackson-park-trail-24/
ATTACH;FMTTYPE=image/jpeg:https://www.seattleparksfoundation.org/wp-content/uploads/2023/03/home-NEW-2-Catherine-Anstett-Trolls-Knoll-gloves.jpg
END:VEVENT
BEGIN:VEVENT
DTSTART;TZID=America/Los_Angeles:20260321T100000
DTEND;TZID=America/Los_Angeles:20260321T130000
DTSTAMP:20260419T232146
CREATED:20260318T181656Z
LAST-MODIFIED:20260318T184808Z
UID:252650-1774087200-1774098000@www.seattleparksfoundation.org
SUMMARY:Kris Baker Memorial Spring Equinox Workday at Discovery Park
DESCRIPTION:Join us for a restoration work party at Discovery Park. \nCapehart Forest is the most wildlife-diverse area in Discovery Park. Come help us promote forest health and increase its biodiversity by weeding out invasive plants\, mulching and aerating the soil to encourage symbiotic fungi\, and plant this year’s native shrubs and perennials. \nRegister
URL:https://www.seattleparksfoundation.org/event/kris-baker-memorial-spring-equinox-workday/
ATTACH;FMTTYPE=image/jpeg:https://www.seattleparksfoundation.org/wp-content/uploads/2026/03/kris-baker-memorial-spring-solstice-workday_4526-3jquj3.jpg
END:VEVENT
BEGIN:VEVENT
DTSTART;TZID=America/Los_Angeles:20260321T100000
DTEND;TZID=America/Los_Angeles:20260321T130000
DTSTAMP:20260419T232146
CREATED:20260304T201014Z
LAST-MODIFIED:20260304T203039Z
UID:236892-1774087200-1774098000@www.seattleparksfoundation.org
SUMMARY:Friends of Discovery Park at Capehart
DESCRIPTION:Join us for a restoration work party at Discovery Park. \nCapehart Forest is the most wildlife-safe area in Discovery Park. Come help us increase its biodiversity by weeding out invasives\, mulching and aerate the soil to encourage symbiotic fungi\, and plant this years native shrubs and groundcovers. \nRegister
URL:https://www.seattleparksfoundation.org/event/friends-of-discovery-park-at-capehart-3/
ATTACH;FMTTYPE=image/jpeg:https://www.seattleparksfoundation.org/wp-content/uploads/2026/03/friends-of-discovery-park-at-capehart_605-syr6jl.jpg
END:VEVENT
BEGIN:VEVENT
DTSTART;TZID=America/Los_Angeles:20260321T100000
DTEND;TZID=America/Los_Angeles:20260321T130000
DTSTAMP:20260419T232146
CREATED:20260204T190713Z
LAST-MODIFIED:20260204T194152Z
UID:218011-1774087200-1774098000@www.seattleparksfoundation.org
SUMMARY:Friends of Discovery Park Restoration Work Party at Capehart
DESCRIPTION:Join us for a restoration work party at Discovery Park. \nCapehart Forest is the most wildlife-safe area in Discovery Park. Come help us increase its biodiversity by weeding out invasives\, mulching and aerate the soil to encourage symbiotic fungi\, and plant this years native shrubs and groundcovers.  \nRegister
URL:https://www.seattleparksfoundation.org/event/friends-of-discovery-park-at-capehart-phil-vogelzang/
ATTACH;FMTTYPE=image/jpeg:https://www.seattleparksfoundation.org/wp-content/uploads/2026/02/friends-of-discovery-park-at-capehart-phil-vogelzang_2525-dsmd5t.jpg
END:VEVENT
BEGIN:VEVENT
DTSTART;TZID=America/Los_Angeles:20260321T100000
DTEND;TZID=America/Los_Angeles:20260321T130000
DTSTAMP:20260419T232146
CREATED:20260204T190617Z
LAST-MODIFIED:20260204T192736Z
UID:217988-1774087200-1774098000@www.seattleparksfoundation.org
SUMMARY:Longfellow Creek GS Restoration Event
DESCRIPTION:Join us for a restoration work party at Longfellow Creek GS: Central. \nDelridge Neighborhoods Development Association offers twice-weekly opportunities for hands-on volunteering outdoors in the forests of West Seattle. Volunteers work to support our mission\, values\, history and commitment to social justice in the Delridge neighborhood. \nRegister
URL:https://www.seattleparksfoundation.org/event/longfellow-creek-gs-restoration-event-36/
ATTACH;FMTTYPE=image/jpeg:https://www.seattleparksfoundation.org/wp-content/uploads/2023/03/home-NEW-2-Catherine-Anstett-Trolls-Knoll-gloves.jpg
END:VEVENT
BEGIN:VEVENT
DTSTART;TZID=America/Los_Angeles:20260321T100000
DTEND;TZID=America/Los_Angeles:20260321T120000
DTSTAMP:20260419T232146
CREATED:20260107T204603Z
LAST-MODIFIED:20260108T193725Z
UID:212009-1774087200-1774094400@www.seattleparksfoundation.org
SUMMARY:East Duwamish Work Party
DESCRIPTION:Join a restoration work party at East Duwamish GS: S Chicago St. \nHelp take care of the forest along this neighborhood trail! Depending on the time of the year\, we’ll be pulling and removing ivy\, cutting back and digging out blackberry or planting new plants; and always having a good time! \nLearn more + register here
URL:https://www.seattleparksfoundation.org/event/east-duwamish-work-party-27/
ATTACH;FMTTYPE=image/jpeg:https://www.seattleparksfoundation.org/wp-content/uploads/2023/03/home-NEW-2-Catherine-Anstett-Trolls-Knoll-gloves.jpg
END:VEVENT
BEGIN:VEVENT
DTSTART;TZID=America/Los_Angeles:20260321T090000
DTEND;TZID=America/Los_Angeles:20260321T120000
DTSTAMP:20260419T232146
CREATED:20260123T162837Z
LAST-MODIFIED:20260123T165052Z
UID:214984-1774083600-1774094400@www.seattleparksfoundation.org
SUMMARY:Carkeek STARS Work Party
DESCRIPTION:Join us for a restoration work party at Carkeek Park. \nJoin other enthusiastic volunteers for a fun morning of forest restoration and trails maintenance. We have a wide variety of tasks you can help with. Adults and teenagers welcome. If you are a group of 5 or more contact Dale Johnson. Follow the STARS signs to our meeting place\, which will be the parking lot at the Environmental Learning Center. Welcome! \nRegister
URL:https://www.seattleparksfoundation.org/event/carkeek-stars-work-party-23/
ATTACH;FMTTYPE=image/jpeg:https://www.seattleparksfoundation.org/wp-content/uploads/2023/03/home-NEW-2-Catherine-Anstett-Trolls-Knoll-gloves.jpg
END:VEVENT
BEGIN:VEVENT
DTSTART;TZID=America/Los_Angeles:20260321T090000
DTEND;TZID=America/Los_Angeles:20260321T110000
DTSTAMP:20260419T232146
CREATED:20260304T201302Z
LAST-MODIFIED:20260317T213125Z
UID:236916-1774083600-1774090800@www.seattleparksfoundation.org
SUMMARY:Keeping Dead Horse Canyon Beautiful
DESCRIPTION:Join us for a restoration work party at Lakeridge Park. \nHave some fun working to keep our beautiful park beautiful. \nRegister
URL:https://www.seattleparksfoundation.org/event/keeping-dead-horse-canyon-beautiful/
ATTACH;FMTTYPE=image/jpeg:https://www.seattleparksfoundation.org/wp-content/uploads/2026/03/home-new-2-catherine-anstett-trolls-knoll-gloves.jpg
END:VEVENT
BEGIN:VEVENT
DTSTART;TZID=America/Los_Angeles:20260320T110000
DTEND;TZID=America/Los_Angeles:20260320T143000
DTSTAMP:20260419T232146
CREATED:20260107T204603Z
LAST-MODIFIED:20260108T193202Z
UID:212008-1774004400-1774017000@www.seattleparksfoundation.org
SUMMARY:Daybreak Star Forest Garden Land Tending: Tending Our Future
DESCRIPTION:Join us for a restoration work party at Daybreak Star. \nThese gatherings are a place to return to the land\, to reconnect with Indigenous teachings\, and to be in community with each other in ways that are rooted\, relational\, and real. They’re about Indigenous food sovereignty\, cultural memory\, and reclaiming the right to care for land in the ways our ancestors always have. \nLed by community members and organizers with United Indians of All Tribes Foundation\, this work centers Indigenous knowledge systems and relationships with land that have existed here since time immemorial—and that continue\, despite every attempt to erase them. \nThe Forest Garden is growing with care—planted with camas\, salmonberry\, huckleberry\, wild strawberry\, nettle\, cedar\, and other Native plants that are more than food and medicine—they’re our teachers\, our elders\, and our ancestors. \nThese plants are being tended not just for harvest\, but to support the many Indigenous-centered programs at UIATF: elder meals\, youth programming\, cultural wellness\, and more. This is one way we practice sovereignty—by feeding ourselves\, our people\, and our spirits in alignment with our values. \nIn a time when many of us are searching for where to belong and how to show up—this is a space to meet one another\, build real relationships\, and map the power we already hold together. \nLet’s gather not just to work the land—but to connect\, share our stories\, and remember that we are each other’s safety\, each other’s strength\, and each other’s solution. \nRegister
URL:https://www.seattleparksfoundation.org/event/daybreak-star-forest-garden-land-tending-tending-our-future-17/
ATTACH;FMTTYPE=image/jpeg:https://www.seattleparksfoundation.org/wp-content/uploads/2023/03/home-NEW-2-Catherine-Anstett-Trolls-Knoll-gloves.jpg
END:VEVENT
BEGIN:VEVENT
DTSTART;TZID=America/Los_Angeles:20260320T093000
DTEND;TZID=America/Los_Angeles:20260320T113000
DTSTAMP:20260419T232146
CREATED:20260318T181726Z
LAST-MODIFIED:20260318T185654Z
UID:252662-1773999000-1774006200@www.seattleparksfoundation.org
SUMMARY:Pulling ivy with A Cleaner Alki
DESCRIPTION:Join us for a restoration work party at Schmitz Preserve Park.  \nCelebrate the first day of spring by helping the community group\, A Cleaner Alki\, remove ivy to make room for native plants that will support birds\, insects\, salamanders and other wildlife 🦅 \nWe will be in a gorgeous area of the woods surrounded by ancient trees. \nRegister
URL:https://www.seattleparksfoundation.org/event/pulling-ivy-with-a-cleaner-alki-6/
ATTACH;FMTTYPE=image/jpeg:https://www.seattleparksfoundation.org/wp-content/uploads/2026/03/home-new-2-catherine-anstett-trolls-knoll-gloves.jpg
END:VEVENT
BEGIN:VEVENT
DTSTART;TZID=America/Los_Angeles:20260320T090000
DTEND;TZID=America/Los_Angeles:20260320T123000
DTSTAMP:20260419T232146
CREATED:20260318T181726Z
LAST-MODIFIED:20260318T185750Z
UID:252663-1773997200-1774009800@www.seattleparksfoundation.org
SUMMARY:More weeding in our Pollinator Patch
DESCRIPTION:Join us for a restoration work party at Burke-Gilman Trail. \nMore weeding to be done in our Pollinator Patch. \nRegister to meet.
URL:https://www.seattleparksfoundation.org/event/more-weeding-in-our-pollinator-patch/
ATTACH;FMTTYPE=image/jpeg:https://www.seattleparksfoundation.org/wp-content/uploads/2026/03/home-new-2-catherine-anstett-trolls-knoll-gloves.jpg
END:VEVENT
END:VCALENDAR